BEGIN:VCALENDAR
VERSION:2.0
PRODID:-//iSystems GmbH - ECPv6.15.7//NONSGML v1.0//EN
CALSCALE:GREGORIAN
METHOD:PUBLISH
X-WR-CALNAME:iSystems GmbH
X-ORIGINAL-URL:https://isystems.inarbeit-webdesign.de
X-WR-CALDESC:Events for iSystems GmbH
REFRESH-INTERVAL;VALUE=DURATION:PT1H
X-Robots-Tag:noindex
X-PUBLISHED-TTL:PT1H
BEGIN:VTIMEZONE
TZID:America/Lima
BEGIN:STANDARD
TZOFFSETFROM:-0500
TZOFFSETTO:-0500
TZNAME:-05
DTSTART:20240101T000000
END:STANDARD
END:VTIMEZONE
BEGIN:VTIMEZONE
TZID:Europe/Berlin
BEGIN:DAYLIGHT
TZOFFSETFROM:+0100
TZOFFSETTO:+0200
TZNAME:CEST
DTSTART:20230326T010000
END:DAYLIGHT
BEGIN:STANDARD
TZOFFSETFROM:+0200
TZOFFSETTO:+0100
TZNAME:CET
DTSTART:20231029T010000
END:STANDARD
BEGIN:DAYLIGHT
TZOFFSETFROM:+0100
TZOFFSETTO:+0200
TZNAME:CEST
DTSTART:20240331T010000
END:DAYLIGHT
BEGIN:STANDARD
TZOFFSETFROM:+0200
TZOFFSETTO:+0100
TZNAME:CET
DTSTART:20241027T010000
END:STANDARD
BEGIN:DAYLIGHT
TZOFFSETFROM:+0100
TZOFFSETTO:+0200
TZNAME:CEST
DTSTART:20250330T010000
END:DAYLIGHT
BEGIN:STANDARD
TZOFFSETFROM:+0200
TZOFFSETTO:+0100
TZNAME:CET
DTSTART:20251026T010000
END:STANDARD
BEGIN:DAYLIGHT
TZOFFSETFROM:+0100
TZOFFSETTO:+0200
TZNAME:CEST
DTSTART:20260329T010000
END:DAYLIGHT
BEGIN:STANDARD
TZOFFSETFROM:+0200
TZOFFSETTO:+0100
TZNAME:CET
DTSTART:20261025T010000
END:STANDARD
END:VTIMEZONE
BEGIN:VTIMEZONE
TZID:America/Halifax
BEGIN:DAYLIGHT
TZOFFSETFROM:-0400
TZOFFSETTO:-0300
TZNAME:ADT
DTSTART:20240310T060000
END:DAYLIGHT
BEGIN:STANDARD
TZOFFSETFROM:-0300
TZOFFSETTO:-0400
TZNAME:AST
DTSTART:20241103T050000
END:STANDARD
BEGIN:DAYLIGHT
TZOFFSETFROM:-0400
TZOFFSETTO:-0300
TZNAME:ADT
DTSTART:20250309T060000
END:DAYLIGHT
BEGIN:STANDARD
TZOFFSETFROM:-0300
TZOFFSETTO:-0400
TZNAME:AST
DTSTART:20251102T050000
END:STANDARD
BEGIN:DAYLIGHT
TZOFFSETFROM:-0400
TZOFFSETTO:-0300
TZNAME:ADT
DTSTART:20260308T060000
END:DAYLIGHT
BEGIN:STANDARD
TZOFFSETFROM:-0300
TZOFFSETTO:-0400
TZNAME:AST
DTSTART:20261101T050000
END:STANDARD
END:VTIMEZONE
BEGIN:VTIMEZONE
TZID:America/Mexico_City
BEGIN:STANDARD
TZOFFSETFROM:-0600
TZOFFSETTO:-0600
TZNAME:CST
DTSTART:20240101T000000
END:STANDARD
END:VTIMEZONE
BEGIN:VTIMEZONE
TZID:UTC
BEGIN:STANDARD
TZOFFSETFROM:+0000
TZOFFSETTO:+0000
TZNAME:UTC
DTSTART:20240101T000000
END:STANDARD
END:VTIMEZONE
BEGIN:VEVENT
DTSTART;VALUE=DATE:20250501
DTEND;VALUE=DATE:20250502
DTSTAMP:20260420T113010
CREATED:20240118T103823Z
LAST-MODIFIED:20250129T154516Z
UID:19024-1746057600-1746143999@isystems.inarbeit-webdesign.de
SUMMARY:Día del Trabajo (PE + MX)
DESCRIPTION:
URL:https://isystems.inarbeit-webdesign.de/event/dia-del-trabajo-pe/
END:VEVENT
BEGIN:VEVENT
DTSTART;VALUE=DATE:20250421
DTEND;VALUE=DATE:20250422
DTSTAMP:20260420T113010
CREATED:20240118T102753Z
LAST-MODIFIED:20250129T154222Z
UID:19022-1745193600-1745279999@isystems.inarbeit-webdesign.de
SUMMARY:Ostermontag (NRW)
DESCRIPTION:
URL:https://isystems.inarbeit-webdesign.de/event/ostermontag-nrw/
END:VEVENT
BEGIN:VEVENT
DTSTART;VALUE=DATE:20250418
DTEND;VALUE=DATE:20250419
DTSTAMP:20260420T113010
CREATED:20240416T104725Z
LAST-MODIFIED:20250129T152827Z
UID:19874-1744934400-1745020799@isystems.inarbeit-webdesign.de
SUMMARY:Good Friday (US)
DESCRIPTION:
URL:https://isystems.inarbeit-webdesign.de/event/good-friday-us/
END:VEVENT
BEGIN:VEVENT
DTSTART;VALUE=DATE:20250418
DTEND;VALUE=DATE:20250419
DTSTAMP:20260420T113010
CREATED:20240118T100649Z
LAST-MODIFIED:20250129T152612Z
UID:19000-1744934400-1745020799@isystems.inarbeit-webdesign.de
SUMMARY:Karfreitag (NRW)
DESCRIPTION:
URL:https://isystems.inarbeit-webdesign.de/event/karfreitag-nrw/
END:VEVENT
BEGIN:VEVENT
DTSTART;VALUE=DATE:20250418
DTEND;VALUE=DATE:20250419
DTSTAMP:20260420T113010
CREATED:20240118T100439Z
LAST-MODIFIED:20250129T152347Z
UID:18998-1744934400-1745020799@isystems.inarbeit-webdesign.de
SUMMARY:Viernes Santo (PE + MX)
DESCRIPTION:
URL:https://isystems.inarbeit-webdesign.de/event/viernes-santo-peru/
END:VEVENT
BEGIN:VEVENT
DTSTART;VALUE=DATE:20250417
DTEND;VALUE=DATE:20250418
DTSTAMP:20260420T113010
CREATED:20240118T100221Z
LAST-MODIFIED:20250129T152203Z
UID:18993-1744848000-1744934399@isystems.inarbeit-webdesign.de
SUMMARY:Jueves Santo (PE + MX)
DESCRIPTION:
URL:https://isystems.inarbeit-webdesign.de/event/jueves-santo-peru/
END:VEVENT
BEGIN:VEVENT
DTSTART;VALUE=DATE:20250317
DTEND;VALUE=DATE:20250318
DTSTAMP:20260420T113010
CREATED:20240131T090558Z
LAST-MODIFIED:20250129T151608Z
UID:19348-1742169600-1742255999@isystems.inarbeit-webdesign.de
SUMMARY:Natalicio de Benito Juárez (MX)
DESCRIPTION:
URL:https://isystems.inarbeit-webdesign.de/event/natalicio-de-benito-juarez-mexico/
END:VEVENT
BEGIN:VEVENT
DTSTART;VALUE=DATE:20250217
DTEND;VALUE=DATE:20250218
DTSTAMP:20260420T113010
CREATED:20250129T155233Z
LAST-MODIFIED:20250129T155233Z
UID:20159-1739750400-1739836799@isystems.inarbeit-webdesign.de
SUMMARY:Washington's Birthday
DESCRIPTION:
URL:https://isystems.inarbeit-webdesign.de/event/washingtons-birthday/
END:VEVENT
BEGIN:VEVENT
DTSTART;VALUE=DATE:20250205
DTEND;VALUE=DATE:20250206
DTSTAMP:20260420T113010
CREATED:20240131T090454Z
LAST-MODIFIED:20250129T144206Z
UID:19346-1738713600-1738799999@isystems.inarbeit-webdesign.de
SUMMARY:Día de la Constitución Mexicana (MX)
DESCRIPTION:
URL:https://isystems.inarbeit-webdesign.de/event/dia-de-la-constitucion-mexicana/
END:VEVENT
BEGIN:VEVENT
DTSTART;VALUE=DATE:20250120
DTEND;VALUE=DATE:20250121
DTSTAMP:20260420T113010
CREATED:20250129T153011Z
LAST-MODIFIED:20250129T153941Z
UID:20157-1737331200-1737417599@isystems.inarbeit-webdesign.de
SUMMARY:Martin Luther King Jr. Day
DESCRIPTION:
URL:https://isystems.inarbeit-webdesign.de/event/martin-luther-king-jr-day/
END:VEVENT
BEGIN:VEVENT
DTSTART;VALUE=DATE:20250101
DTEND;VALUE=DATE:20250102
DTSTAMP:20260420T113010
CREATED:20240118T094800Z
LAST-MODIFIED:20250129T144015Z
UID:18980-1735689600-1735775999@isystems.inarbeit-webdesign.de
SUMMARY:New Year / Año Nuevo (NRW + PE + MX)
DESCRIPTION:
URL:https://isystems.inarbeit-webdesign.de/event/new-year/
END:VEVENT
BEGIN:VEVENT
DTSTART;VALUE=DATE:20241101
DTEND;VALUE=DATE:20241102
DTSTAMP:20260420T113010
CREATED:20240118T111826Z
LAST-MODIFIED:20240118T111826Z
UID:19070-1730419200-1730505599@isystems.inarbeit-webdesign.de
SUMMARY:Allerheiligen (NRW)
DESCRIPTION:
URL:https://isystems.inarbeit-webdesign.de/event/allerheiligen-nrw/
END:VEVENT
END:VCALENDAR